﻿BEGIN:VCALENDAR
VERSION:2.0
PRODID:-//generationengerechteswohnen//generationengerechteswohnen.de//DE
CALSCALE:GREGORIAN
BEGIN:VEVENT
DTSTART:20260423T140000
DTEND:20260814T180000
LOCATION:
DTSTAMP:20260420T090146
SUMMARY:Schafkopf in Fürstenried
URL;VALUE=URI:https://www.generation-wohnen.com
DESCRIPTION:\nSchafkopf ist nicht nur ein Kartenspiel, es ist das beliebteste Kartenspiel in Bayern und gilt zudem als Kulturgut, als Teil der bayerischen Lebensart.\nWir pflegen dieses Kulturgut und freuen uns über neue Mitspieler!\nTermine: donnerstags, 14 - 18 Uhr\nOrt: NT Fürstenried, Forstenrieder Allee 46a\nAnmeldung: bis montags vorher\nAnsprechpartner: Bernhard Hörbeck, T: 0176 - 460 828 79
UID:20260420T090146-20260423T140000-20260814T180000
END:VEVENT
END:VCALENDAR