﻿BEGIN:VCALENDAR
VERSION:2.0
PRODID:-//generationengerechteswohnen//generationengerechteswohnen.de//DE
CALSCALE:GREGORIAN
BEGIN:VEVENT
DTSTART:20260424T100000
DTEND:20260611T113000
LOCATION:
DTSTAMP:20260420T090146
SUMMARY:Freizeitsportgruppe TAEKWONDO Gesundheitstraining für 55 Plus
URL;VALUE=URI:https://www.generation-wohnen.com
DESCRIPTION:\nTaekwondo ist nicht nur eine koreanische Kampf-kunst, mit seinen Übungen werden auch Geist und Körper gefördert. Wir wollen, angelehnt an Taekwondo, gemeinschaftlich unsere "Fitness" verbessern. Nach dem Motto: Taekwondo statt Physio! Gemeinsam statt einsam. \n\nMitbringen: bequeme Sportkleidung, es wird barfuß geübt. \nEinstieg jederzeit möglich. \n Auch für Anfänger / Neulinge / Wiedereinsteiger / Schnupperer ;-)\n\nEntfällt in den Schulferien und an Brückentagen.\nWo: NT Barthstr. 15a\nWann: Freitags, 10-11:30 Uhr\nBeitrag: 7 €, Vereinsmitglieder 5 €\nAnsprechpartner: Andreas Eichlinger, Johann Hien\nAnmeldung im Vereinsbüro: 51 81 89 59
UID:20260420T090146-20260424T100000-20260611T113000
END:VEVENT
END:VCALENDAR