﻿BEGIN:VCALENDAR
VERSION:2.0
PRODID:-//generationengerechteswohnen//generationengerechteswohnen.de//DE
CALSCALE:GREGORIAN
BEGIN:VEVENT
DTSTART:20260423T180000
DTEND:20260724T200000
LOCATION:
DTSTAMP:20260420T090146
SUMMARY:BeSwinged Singers
URL;VALUE=URI:https://www.generation-wohnen.com
DESCRIPTION:\nKomm sing mit uns: Gospels, Oldies, Schlager, Chants\nWir sind ein fröhlicher Singkreis, legen Wert auf gute Stimmung, und singen „BeSwinged“ und besinnlich. Etwas Musikerfahrung erwünscht. \nNeue Mitglieder sind herzlich willkommen!\nEinfach vorbeischauen!\nTermine: 22. Januar, 12. & 26. Februar, 12. & 26. März, 9. & 23. April\nUhrzeit: 18 bis 20 Uhr\nOrt: Tulbeck Treff\nBeitrag: 2 €\nLeitung: Manfred Link
UID:20260420T090146-20260423T180000-20260724T200000
END:VEVENT
END:VCALENDAR